BEGIN:VCALENDAR
VERSION:2.0
PRODID:http://www.kufer.de/kuferweb / DE
METHOD:PUBLISH
CALSCALE:GREGORIAN
X-WR-TIMEZONE:Europe/Berlin
BEGIN:VTIMEZONE
TZID:Europe/Berlin
X-LIC-LOCATION:Europe/Berlin
BEGIN:DAYLIGHT
TZOFFSETFROM:+0100
TZOFFSETTO:+0200
TZNAME:CEST
DTSTART;TZID=Europe/Berlin:19700329T020000
RRULE:FREQ=YEARLY;INTERVAL=1;BYDAY=-1SU;BYMONTH=3
END:DAYLIGHT
BEGIN:STANDARD
TZOFFSETFROM:+0200
TZOFFSETTO:+0100
TZNAME:CET
DTSTART;TZID=Europe/Berlin:19701025T030000
RRULE:FREQ=YEARLY;INTERVAL=1;BYDAY=-1SU;BYMONTH=10
END:STANDARD
END:VTIMEZONE
BEGIN:VEVENT
DTSTAMP:20260422T192409
DTSTART;TZID=Europe/Berlin:20260430T184500
DTEND;TZID=Europe/Berlin:20260430T201500
UID:ZW1442-261-20260430T184500@KVHSSALZWEDEL
SUMMARY:Französisch - Grundstufe A2 (13. Semester) (ZW1442-261) 
LOCATION:SAW - Raum 213, Karl-Marx-Str. 15, 29410 Salzwedel
END:VEVENT
BEGIN:VEVENT
DTSTAMP:20260422T192409
DTSTART;TZID=Europe/Berlin:20260507T184500
DTEND;TZID=Europe/Berlin:20260507T201500
UID:ZW1442-261-20260507T184500@KVHSSALZWEDEL
SUMMARY:Französisch - Grundstufe A2 (13. Semester) (ZW1442-261) 
LOCATION:SAW - Raum 213, Karl-Marx-Str. 15, 29410 Salzwedel
END:VEVENT
BEGIN:VEVENT
DTSTAMP:20260422T192409
DTSTART;TZID=Europe/Berlin:20260521T184500
DTEND;TZID=Europe/Berlin:20260521T201500
UID:ZW1442-261-20260521T184500@KVHSSALZWEDEL
SUMMARY:Französisch - Grundstufe A2 (13. Semester) (ZW1442-261) 
LOCATION:SAW - Raum 213, Karl-Marx-Str. 15, 29410 Salzwedel
END:VEVENT
BEGIN:VEVENT
DTSTAMP:20260422T192409
DTSTART;TZID=Europe/Berlin:20260604T184500
DTEND;TZID=Europe/Berlin:20260604T201500
UID:ZW1442-261-20260604T184500@KVHSSALZWEDEL
SUMMARY:Französisch - Grundstufe A2 (13. Semester) (ZW1442-261) 
LOCATION:SAW - Raum 213, Karl-Marx-Str. 15, 29410 Salzwedel
END:VEVENT
BEGIN:VEVENT
DTSTAMP:20260422T192409
DTSTART;TZID=Europe/Berlin:20260611T184500
DTEND;TZID=Europe/Berlin:20260611T201500
UID:ZW1442-261-20260611T184500@KVHSSALZWEDEL
SUMMARY:Französisch - Grundstufe A2 (13. Semester) (ZW1442-261) 
LOCATION:SAW - Raum 213, Karl-Marx-Str. 15, 29410 Salzwedel
END:VEVENT
BEGIN:VEVENT
DTSTAMP:20260422T192409
DTSTART;TZID=Europe/Berlin:20260618T184500
DTEND;TZID=Europe/Berlin:20260618T201500
UID:ZW1442-261-20260618T184500@KVHSSALZWEDEL
SUMMARY:Französisch - Grundstufe A2 (13. Semester) (ZW1442-261) 
LOCATION:SAW - Raum 213, Karl-Marx-Str. 15, 29410 Salzwedel
END:VEVENT
END:VCALENDAR